BEGIN:VCALENDAR
VERSION:2.0
PRODID:https://github.com/derhansen/sf_event_mgt
METHOD:PUBLISH
BEGIN:VEVENT
UID:916-345@www.diakonie-sh.de
CLASS: PUBLIC
SUMMARY:Aktuelle Rechtslage auf der EU-Ebene und in der deutschen Asylgewäh
 rung
DESCRIPTION:
DTSTAMP:20230911T075536Z
DTSTART:20230927T150000Z
DTEND:20230927T173000Z
END:VEVENT
END:VCALENDAR
