BEGIN:VCALENDAR
VERSION:2.0
PRODID:https://github.com/derhansen/sf_event_mgt
METHOD:PUBLISH
BEGIN:VEVENT
UID:201-345@www.diakonie-sh.de
CLASS: PUBLIC
SUMMARY:Anfeindungen und Frust in ehrenamtlicher Geflüchtetenhilfe
DESCRIPTION:Referentin:\n\nFrau Dr. Imke Lode, Interkulturelle Trainerin\n\
 n\n\nModeration:\n\nGernot Tams, Referent für ehrenamtliche Geflüchtetenhil
 fe\n\nDiakonisches Werk Schleswig-Holstein
DTSTAMP:20191104T054637Z
DTSTART:20191111T083000Z
DTEND:20191111T130000Z
END:VEVENT
END:VCALENDAR
