BEGIN:VCALENDAR
VERSION:2.0
PRODID:https://github.com/derhansen/sf_event_mgt
METHOD:PUBLISH
BEGIN:VEVENT
UID:2000-345@www.diakonie-sh.de
CLASS: PUBLIC
SUMMARY:Familiennachzug und Familienasyl –  rechtliche Voraussetzungen und 
 praktische Hinweise
DESCRIPTION:In dieser Fortbildung wird Rechtsanwältin Susanne Müller nach e
 inem Überblick zu den rechtlichen Voraussetzungen für einen Familiennachzug
  praktische Hinweise geben, insbesondere zu den Themen "fristwahrende Anzei
 ge", zuständige deutsche Botschaft, Terminregistrierung, Vorbereitung auf d
 en Termin zur Visumsbeantragung anhand von Merkblättern, Verhalten nach ein
 er Ablehnung des Visums. \n\nDie Fortbildung richtet sich an Mitarbeiter:in
 nen in Migrationsfachdiensten und Jugendmigrationsdiensten, die bereits Gru
 ndkenntnisse im Aufenthaltsrecht haben. \n\n\n\nReferentin: Rechtsanwältin 
 Susanne Müller, Rechtsberaterin der Diakonie
LOCATION:Tagungszentrum Martinshaus
DTSTAMP:20260415T060057Z
DTSTART:20260429T073000Z
DTEND:20260429T100000Z
END:VEVENT
END:VCALENDAR
