BEGIN:VCALENDAR
VERSION:2.0
PRODID:https://github.com/derhansen/sf_event_mgt
METHOD:PUBLISH
BEGIN:VEVENT
UID:574-345@www.diakonie-sh.de
CLASS: PUBLIC
SUMMARY:Grenzsituationen - Wie zwischen Belarus und Polen (Präsenz)
DESCRIPTION:Regelmäßig berichten die Medien über die Situation an der Grenz
 e zwischen Belarus und Polen. Die belarussische Regierung hat Flüchtlinge n
 ach Minsk fliegen lassen und bringt sie an die Grenze zur EU. Dort versuche
 n Grenzschutz, Polizei und Armee von Litauen und vor allem Polen, die Einre
 ise und Asylanträge zu verhindern.\n\n\n\nDier Workshop beschäftigt sich da
 mit, \n\n\n\n 	 	einen Überblick über die aktuelle Situation zu erstellen. 
 	 	 	wie sich die aktuelle Situation auf freiwilliges und ehrenamtlichen En
 gagement auswirkt. 	 	 	wie es Geflüchtete erleben, die jenseits der Grenze
  Angehörige haben, um deren Leben sie fürchten. 	 	 	welche Möglichkeiten O
 rganisationen der Zivilgesellschaft und freiwillige HelferInnen haben, um f
 ür Humanität einzutreten? 	 \n\n\n\nIn dem Zusammenhang beschäftigen uns di
 e dahinterstehenden Haltungen der Regierungen von Belarus, Polen und andere
 r Regierungen in Europa, sowie der EU insgesamt. Und so werfen wir auch noc
 h einen Blick in Richtung Mittemeer und Balkanroute.\n\n\n\nReferent: Reinh
 ard Pohl (Journalist)\n\n\n\nTeilnahme und Imbiss sind kostenfrei.\n\nEs gi
 lt das aktuelle Hygienekonzept 2Gplus.
DTSTAMP:20220111T065538Z
DTSTART:20220124T090000Z
DTEND:20220124T130000Z
END:VEVENT
END:VCALENDAR
