BEGIN:VCALENDAR
VERSION:2.0
PRODID:https://github.com/derhansen/sf_event_mgt
METHOD:PUBLISH
BEGIN:VEVENT
UID:274-345@www.diakonie-sh.de
CLASS: PUBLIC
SUMMARY:LOYALITÄT WIRKLICH MACHEN
DESCRIPTION:Die Veranstaltung wird wegen der aktuellen Infektionsgefahr dur
 ch das Corona-Virus auf einen späteren Zeitpunkt verschoben.\n\n \n\nAktuel
 le Entwicklungen im kirchlichen Arbeitsrecht und ihre Konsequenzen für diak
 onische Träger aus juristischer und theologischer Perspektive\n\nDie Frage 
 nach der verpflichtenden Kirchenmitgliedschaft von Mitarbeitenden in Diakon
 ie und verfasster Kirche beschäftigt sowohl kirchliche Gremien als auch die
  Gerichte.\n\nDetlev Fey, Referent für Arbeitsrecht bei der EKD berichtet a
 n diesem Fachtag zum aktuellen Sachstand der überarbeiteten Loyalitätsricht
 linie der EKD.\n\nDr. Thorsten Moos von der Kirchlichen Hochschule Wupperta
 l/Bethel wird eine theologische Einordnung des kirchlichen Arbeitsrechts vo
 rnehmen und der Arbeit mit nicht-christlichen Mitarbeitenden.\n\nDer Fachta
 g ist Teil einer Reihe von Veranstaltungen zur diakonischen Identität.
LOCATION:Verband Evangelischer Kindertageseinrichtungen in Schleswig-Holste
 in e.V. (VEK)
DTSTAMP:20200514T104416Z
DTSTART:20200519T120000Z
DTEND:20200519T150000Z
END:VEVENT
END:VCALENDAR
