BEGIN:VCALENDAR
VERSION:2.0
PRODID:https://github.com/derhansen/sf_event_mgt
METHOD:PUBLISH
BEGIN:VEVENT
UID:1003-345@www.diakonie-sh.de
CLASS: PUBLIC
SUMMARY:Schulung für Multiplikator*innen nach Hinschauen–Helfen-Handeln
DESCRIPTION:Der beste Schutz vor sexuellen Übergriffen in diakonischen Einr
 ichtungen, in denen Kinder, Jugendliche und Erwachsene sich treffen, beglei
 tet und betreut oder beraten werden, sind Menschen, die aufmerksam und info
 rmiert sind. Respekt, Wertschätzung und Achtsamkeit sind wichtige Faktoren 
 um sexualisierte Gewalt gegenüber allen, für die Verantwortung übernommen w
 ird und die sich anvertrauen, zu vermeiden.\n\nEinrichtungen der Diakonie v
 erfügen über Schutzkonzepte vor sexualisierter Gewalt oder sind dabei eines
  zu entwickeln und zu implementieren. Ein wichtiger Bestandteil eines Schut
 zkonzeptes besteht in der Schulung der Mitarbeitenden, die einen sicheren O
 rt schaffen und eine Handlungssicherheit, sowie Sprachfähigkeit aufgrund vo
 n aktuellen Wissensbeständen erhalten.\n\nDie Multiplikator*innen-Schulung 
 „hinschauen-helfen-handeln“ hat zum Ziel, eine Haltung zu vermitteln, die M
 enschen vor sexualisierter Gewalt schützen soll. Das Angebot ist konzipiert
  für Mitarbeitende, die bereits aktiv in der Präventionsarbeit für die Einr
 ichtungen der Diakonie engagiert sind oder die sich eine solche Tätigkeit v
 orstellen können. Die Fortbildung befähigt, dass im Anschluss die Fachkräft
 e in Ihren Zuständigkeitsbereichen für andere Mitarbeitende Schulungen zur 
 Sensibilisierung für die Thematik durchführen können. Sie werden durch die 
 Teilnahme an der Schulung auf diese Aufgabe als Multiplikator*in vorbereite
 t und unterstützt. Sie erhalten methodisches und inhaltliches Hintergrundwi
 ssen zu den grundlegenden Schulungsinhalten, zu Schulungsabläufen, Methoden
  und Materialien. Informationen zur Initiative finden Sie unter www.hinscha
 uen-helfen-handeln.de.\n\n\n\nTermine:\n\nModul I: Donnerstag, 16.05. – Fre
 itag, 17.05.24\n\nModul II: Donnerstag, 27.06. – Freitag, 28.06.24\n\n\n\nU
 hrzeit: 09:00 – 16:00 Uhr\n\n\n\nReferentinnen:       \n\nKatharina Loerbro
 ks, Supervisorin und Referentin\n\nMaike Becker, Präventionsbeauftragte, Di
 akonisches Werk SH\n\n\n\nTeilnahmegebühr:\n\nTagungspauschale mit Verpfleg
 ung und Übernachtung: 400,- € / Person\n\nTagungspauschale mit Verpflegung 
 ohne Übernachtung: 280,- € / Person
DTSTAMP:20240226T074149Z
DTSTART:20240516T070000Z
DTEND:20240628T140000Z
END:VEVENT
END:VCALENDAR
