BEGIN:VCALENDAR
VERSION:2.0
PRODID:https://github.com/derhansen/sf_event_mgt
METHOD:PUBLISH
BEGIN:VEVENT
UID:2001-345@www.diakonie-sh.de
CLASS: PUBLIC
SUMMARY:Situation von zur Ausreise verpflichteten Ausländerinnen  und Auslä
 ndern in Schleswig-Holstein
DESCRIPTION:THEMEN:\n\nAktuelle Situation freiwillige Perspektiv-und Rückke
 hrberatung SHWas bedeutet freiwillige Rückkehr Was passiert nach einem nega
 tiven AsylverfahrenMitwirkungspflichten und PassbeschaffungWelche Unterstüt
 zungsmöglichkeiten gibt esFreiwillige Rückkehr von vulnerablen PersonenRück
 kehr von Kindern im FamilienverbundFreiwillige Rückkehr und Fachkräfteeinwa
 nderungInformation über Reag / Garp- Förderprogramm\n\n\n\nReferentin:   So
 lveigh Deutschmann
DTSTAMP:20260415T081040Z
DTSTART:20260505T080000Z
DTEND:20260505T103000Z
END:VEVENT
END:VCALENDAR
