BEGIN:VCALENDAR
VERSION:2.0
PRODID:https://github.com/derhansen/sf_event_mgt
METHOD:PUBLISH
BEGIN:VEVENT
UID:1063-345@www.diakonie-sh.de
CLASS: PUBLIC
SUMMARY:Strafrechtliche Ermittlungen im asyl-  und aufenthaltsrechtlichen V
 erfahren
DESCRIPTION:Strafrechtliche Ermittlungsverfahren und strafrechtliche Verurt
 eilungen, aber auch Ordnungswidrigkeitsverfahren und Bußgeldbescheide könne
 n Konsequenzen im asylrechtlichen oder aufenthaltsrechtlichen Verfahren Gef
 lüchteter haben. Dabei ist zu unterscheiden zwischen solchen Straftatbestän
 den oder Ordnungswidrigkeiten, die einen Zusammenhang zum Asyl- oder Aufent
 haltsrecht haben und allgemeinen Straftatbeständen und Ordnungswidrigkeiten
 . Betroffen sein können nicht nur die Geflüchteten selbst, sondern auch Men
 schen, die Geflüchtete unterstützen, sei es haupt- oder ehrenamtlich.\n\nIn
  der Fortbildung stellen wir wichtige Straftatbestände und Ordnungswidrigke
 iten vor, informieren über Grundzüge der Verfahren und geben praktische Hin
 weise.\n\nDie Fortbildung richtet sich sowohl an Hauptamtliche der Migratio
 ns- oder Jugendmigrationsberatung als auch an Ehrenamtliche.\n\n\n\nReferen
 tinnen: \n\nDr. Regine Nowack, Diakonisches Werk Schleswig-Holstein        
      \n\nDr. Julia Trinh, Büro der Landesbeauftragten für Flüchtlings-, Asy
 l- und Zuwanderungsfragen
LOCATION:Landeshaus Kiel
DTSTAMP:20240408T083227Z
DTSTART:20240410T073000Z
DTEND:20240410T100000Z
END:VEVENT
END:VCALENDAR
