BEGIN:VCALENDAR
VERSION:2.0
PRODID:https://github.com/derhansen/sf_event_mgt
METHOD:PUBLISH
BEGIN:VEVENT
UID:334-345@www.diakonie-sh.de
CLASS: PUBLIC
SUMMARY:Zusatztermin "Corona und Verschwörungsmythen"
DESCRIPTION:Verschwörungserzählungen und Fake News verbreiten sich - gerade
  in der Corona-Krise - rasend schnell. Vor allem über das Internet und die 
 Sozialen Medien. Sie versprechen Orientierung und emotionalen Halt sowie ei
 nfache Erklärungen und konkrete Schuldige für das scheinbar Unerklärliche. 
  Doch was sind Verschwörungserzählungen und woran kann ich sie erkennen? Wa
 rum glauben so viele Menschen daran? Sind sie gefährlich für unsere Demokra
 tie und wie kann ich persönlich darauf reagieren?  Das Online-Seminar nimmt
  Corona als Ausgangspunkt, um sich näher mit Verschwörungsmythen auseinande
 r zu setzen. Zusammen werden ihre Gemeinsamkeiten herausgearbeitet. In eine
 m weiteren Schritt werden in zwei Kleingruppen eigene, neue Verschwörungser
 zählungen ausgedacht. Bei deren Präsentationen, werden Sie sowohl in die Ro
 lle der Fans von Verschwörungsmythen als auch in die Rolle der Skeptikerinn
 en und Skeptiker schlüpfen. Fragen, denen wir nachgehen wollen:  \n\nWelche
  Verschwörungserzählungen gibt es + welche aktuell im Zusammenhang mit Covi
 d 19?  Wie entstehen Verschwörungserzählungen? Gibt es strukturelle Gemeins
 amkeiten?  Warum sind sie für Menschen so attraktiv? Für wen besonders? Wir
  probieren es aus!  Wie Fake News erkennen?  Wie auf Verschwörungserzählung
 en reagieren? Wie mit den Menschen sprechen – ob im persönlichen Umfeld ode
 r im Arbeitskontext?  Was bedeuten Verschwörungserzählungen für unsere Demo
 kratie?  Referent: Wolf van Vugt (Dipl.-Pol./ Bildungsreferent/ www.Bildung
 sBausteine.org)
DTSTAMP:20200917T072947Z
DTSTART:20200922T073000Z
DTEND:20200922T103000Z
END:VEVENT
END:VCALENDAR
